BEGIN:VCALENDAR
VERSION:2.0
PRODID:-//ChamberMaster//Event Calendar 2.0//EN
METHOD:PUBLISH
X-PUBLISHED-TTL:P3D
REFRESH-INTERVAL:P3D
CALSCALE:GREGORIAN
BEGIN:VEVENT
DTSTART;VALUE=DATE:20241021
DTEND;VALUE=DATE:20241027
TRANSP:TRANSPARENT
X-MICROSOFT-CDO-ALLDAYEVENT:TRUE
SUMMARY:YWCA Tri-County Area's Week Without Violence
DESCRIPTION:View Flyer here
X-ALT-DESC;FMTTYPE=text/html:<a href="https://chambermaster.blob.core.windows.net/userfiles/UserFiles/chambers/2183/File/WWV2024flyer3.pdf">View Flyer here</a>
LOCATION:
UID:e.2183.861157
SEQUENCE:3
DTSTAMP:20260421T113253Z
URL:https://business.tricountyareachamber.com/events/details/ywca-tri-county-area-s-week-without-violence-861157
END:VEVENT

END:VCALENDAR
