BEGIN:VCALENDAR
VERSION:2.0
PRODID:-//ChamberMaster//Event Calendar 2.0//EN
METHOD:PUBLISH
X-PUBLISHED-TTL:P3D
REFRESH-INTERVAL:P3D
CALSCALE:GREGORIAN
BEGIN:VEVENT
DTSTART:20251219T133000Z
DTEND:20251219T150000Z
X-MICROSOFT-CDO-ALLDAYEVENT:FALSE
SUMMARY:Refresh Friday: Discover the WEDnetPA Training Grant
DESCRIPTION:** This event has been rescheduled to January 16th - Click here!\n\n\n\nDiscover the WEDnetPA Training Grant\n\n8:30 AM - 10 AM\n\n\nYou're invited to an exclusive informational session on the Workforce and Economic Development Network of Pennsylvania (WEDnetPA) grant a powerful reimbursement program that helps eligible companies pay for employee training.\n\nMontgomery County Community College's Workforce Development Division manages this valuable grant locally\, and we want to ensure your company takes advantage of this funding opportunity.\n\nWho Should Attend?\n\nThis grant is specifically for companies located in Pennsylvania that fall into one of the following key industry clusters:\n\n\n	\n	Manufacturing\n	\n	\n	Life Sciences\n	\n	\n	Robotics & Technology\n	\n	\n	Agriculture\n	\n	\n	Energy\n	\n\n\nIf your business is in one of these industries\, we strongly encourage you to attend to learn how you can receive significant reimbursement for your training costs.\n\nKey Grant Highlights\n\n\n	\n	Reimbursement Grant: Receive funds to cover the cost of eligible training\, including training already completed this fiscal year (July 1st   June 30th).\n	\n	\n	Significant Funding: Awards typically range from $15\,000 $20\,000 per year for a company\, with a cap of **$2\,000 per eligible employee**.\n	\n	\n	Flexible Training: The program is vendor agnostic you choose the trainer\, the method\, and the specific skills training.\n	\n	\n	Employee Eligibility: Eligible employees must be full-time\, live in PA\, work at the company location\, and earn at least $16.74 per hour.\n	\n\n\nWe look forward to seeing you there and helping your company invest in your workforce!
X-ALT-DESC;FMTTYPE=text/html:<div style="margin: 0in\;"><span style="font-size:18px\;"><span style="font-family:arial\;"><b><i><a href="https://business.tricountyareachamber.com/events/details/refresh-friday-discover-the-wednetpa-training-grant-01-16-2026-864088?calendarMonth=2026-01-01">** This event has been rescheduled to January 16th - Click here!</a><br />\n<br />\nDiscover the WEDnetPA Training Grant</i></b><br style="font-size: 16px\;" />\n<strong>8:30 AM - 10 AM</strong></span></span></div>\n\n<div style="margin: 0in\;">\n<p google="" line-height:="" margin-top:="" sans="" style="color: rgb(34\, 34\, 34)\; font-size: small\; background-color: rgb(255\, 255\, 255)\; font-family: ">You&#39\;re invited to an exclusive informational session on the&nbsp\;<b style="line-height: 1.15\; margin-top: 0px\;">Workforce and Economic Development Network of Pennsylvania (WEDnetPA)</b>&nbsp\;grant&mdash\;a powerful reimbursement program that helps eligible companies pay for employee training.</p>\n\n<p google="" line-height:="" margin-top:="" sans="" style="color: rgb(34\, 34\, 34)\; font-size: small\; background-color: rgb(255\, 255\, 255)\; font-family: ">Montgomery County Community College&#39\;s Workforce Development Division manages this valuable grant locally\, and we want to ensure your company takes advantage of this funding opportunity.</p>\n\n<h3 google="" line-height:="" margin-top:="" style="color: rgb(34\, 34\, 34)\; background-color: rgb(255\, 255\, 255)\; font-family: "><b google="" line-height:="" margin-top:="" sans="" style="font-family: ">Who Should Attend?</b></h3>\n\n<p google="" line-height:="" margin-top:="" sans="" style="color: rgb(34\, 34\, 34)\; font-size: small\; background-color: rgb(255\, 255\, 255)\; font-family: ">This grant is specifically for companies located in Pennsylvania that fall into one of the following key&nbsp\;<b style="line-height: 1.15\; margin-top: 0px\;">industry clusters</b>:</p>\n\n<ul google="" line-height:="" margin-top:="" sans="" style="color: rgb(34\, 34\, 34)\; font-size: small\; background-color: rgb(255\, 255\, 255)\; padding-inline-start: 32px\; font-family: ">\n	<li style="line-height: 1.15\; margin-top: 0px\;">\n	<p style="line-height: 1.15\; margin-top: 0px\;"><b style="line-height: 1.15\; margin-top: 0px\;">Manufacturing</b></p>\n	</li>\n	<li style="line-height: 1.15\; margin-top: 0px\;">\n	<p style="line-height: 1.15\; margin-top: 0px\;"><b style="line-height: 1.15\; margin-top: 0px\;">Life Sciences</b></p>\n	</li>\n	<li style="line-height: 1.15\; margin-top: 0px\;">\n	<p style="line-height: 1.15\; margin-top: 0px\;"><b style="line-height: 1.15\; margin-top: 0px\;">Robotics &amp\; Technology</b></p>\n	</li>\n	<li style="line-height: 1.15\; margin-top: 0px\;">\n	<p style="line-height: 1.15\; margin-top: 0px\;"><b style="line-height: 1.15\; margin-top: 0px\;">Agriculture</b></p>\n	</li>\n	<li style="line-height: 1.15\; margin-top: 0px\;">\n	<p style="line-height: 1.15\; margin-top: 0px\;"><b style="line-height: 1.15\; margin-top: 0px\;">Energy</b></p>\n	</li>\n</ul>\n\n<p google="" line-height:="" margin-top:="" sans="" style="color: rgb(34\, 34\, 34)\; font-size: small\; background-color: rgb(255\, 255\, 255)\; font-family: ">If your business is in one of these industries\, we strongly encourage you to attend to learn how you can receive significant reimbursement for your training costs.</p>\n\n<h3 google="" line-height:="" margin-top:="" style="color: rgb(34\, 34\, 34)\; background-color: rgb(255\, 255\, 255)\; font-family: "><b google="" line-height:="" margin-top:="" sans="" style="font-family: ">Key Grant Highlights</b></h3>\n\n<ul google="" line-height:="" margin-top:="" sans="" style="color: rgb(34\, 34\, 34)\; font-size: small\; background-color: rgb(255\, 255\, 255)\; padding-inline-start: 32px\; font-family: ">\n	<li style="line-height: 1.15\; margin-top: 0px\;">\n	<p style="line-height: 1.15\; margin-top: 0px\;"><b style="line-height: 1.15\; margin-top: 0px\;">Reimbursement Grant:</b>&nbsp\;Receive funds to cover the cost of eligible training\, including training already completed this fiscal year (July 1st &ndash\; June 30th).</p>\n	</li>\n	<li style="line-height: 1.15\; margin-top: 0px\;">\n	<p style="line-height: 1.15\; margin-top: 0px\;"><b style="line-height: 1.15\; margin-top: 0px\;">Significant Funding:</b>&nbsp\;Awards typically range from $<span class="gmail-math-inline" style="line-height: 1.15\; margin-top: 0px\;">15\,000&ndash\;$</span><span class="gmail-math-inline" style="line-height: 1.15\; margin-top: 0px\;">20\,000 per year for a company\, with a cap of **</span>$2\,000 per eligible employee**.</p>\n	</li>\n	<li style="line-height: 1.15\; margin-top: 0px\;">\n	<p style="line-height: 1.15\; margin-top: 0px\;"><b style="line-height: 1.15\; margin-top: 0px\;">Flexible Training:</b>&nbsp\;The program is&nbsp\;<b style="line-height: 1.15\; margin-top: 0px\;">vendor agnostic</b>&mdash\;you choose the trainer\, the method\, and the specific skills training.</p>\n	</li>\n	<li style="line-height: 1.15\; margin-top: 0px\;">\n	<p style="line-height: 1.15\; margin-top: 0px\;"><b style="line-height: 1.15\; margin-top: 0px\;">Employee Eligibility:</b>&nbsp\;Eligible employees must be&nbsp\;<b style="line-height: 1.15\; margin-top: 0px\;">full-time</b>\, live in&nbsp\;<b style="line-height: 1.15\; margin-top: 0px\;">PA</b>\, work at the company location\, and earn at least&nbsp\;<b style="line-height: 1.15\; margin-top: 0px\;">$16.74 per hour</b>.</p>\n	</li>\n</ul>\n\n<p google="" line-height:="" margin-top:="" sans="" style="color: rgb(34\, 34\, 34)\; font-size: small\; background-color: rgb(255\, 255\, 255)\; font-family: ">We look forward to seeing you there and helping your company invest in your workforce!</p>\n</div>\n
LOCATION:TriCounty Area Chamber of Commerce Offices 18 W. Lightcap rd\, Suite 613 Pottstown\, PA 19464
UID:e.2183.864488
SEQUENCE:3
DTSTAMP:20260419T203300Z
URL:https://business.tricountyareachamber.com/events/details/refresh-friday-discover-the-wednetpa-training-grant-864488
END:VEVENT

END:VCALENDAR
